BEGIN:VCALENDAR
VERSION:2.0
PRODID:-//ChamberMaster//Event Calendar 2.0//EN
METHOD:PUBLISH
X-PUBLISHED-TTL:P3D
REFRESH-INTERVAL:P3D
CALSCALE:GREGORIAN
BEGIN:VEVENT
DTSTART:20121010T180000Z
DTEND:20121010T190000Z
X-MICROSOFT-CDO-ALLDAYEVENT:FALSE
SUMMARY:Chamber Luncheon- Candidates
DESCRIPTION:Chamber Luncheon- Candidates\n\nOctober 10\, 2012\n\n12 Noon - 1 p.m.\n\nHosted by: Republican & Democratic Parties\n\nUtah State Firemans Museum\n\nDesert Peak Complex  \n\n2930 West Highway 112\, Tooele 84074
X-ALT-DESC;FMTTYPE=text/html:<span style="font-size: 20px"><strong><span style="color: #0000cd"><u>Chamber Luncheon- Candidates</u></span><br />\nOctober 10\, 2012<br />\n12 Noon - 1 p.m.<br />\nHosted by: Republican &amp\; Democratic Parties<br />\n<strong>Utah State Firemans Museum<br />\nDesert Peak Complex <span _fck_bookmark="1" style="display: none">&nbsp\;</span></strong><br />\n2930 West Highway 112\, Tooele 84074</strong></span><br />\n
LOCATION:
UID:e.125.4666
SEQUENCE:3
DTSTAMP:20260421T052209Z
URL:https://members.tooelechamber.com/events/details/chamber-luncheon-candidates-10-10-2012-4666
END:VEVENT

END:VCALENDAR
