BEGIN:VCALENDAR
VERSION:2.0
PRODID:-//ChamberMaster//Event Calendar 2.0//EN
METHOD:PUBLISH
X-PUBLISHED-TTL:P3D
REFRESH-INTERVAL:P3D
CALSCALE:GREGORIAN
BEGIN:VEVENT
DTSTART:20140827T180000Z
DTEND:20140827T190000Z
X-MICROSOFT-CDO-ALLDAYEVENT:FALSE
SUMMARY:Chamber Luncheon: JOILful Living
DESCRIPTION:Come join us for a luncheon hosted by JOILful Living.\n\nThey will be speaking on Wellness in the workplace with the focus on reducing stress and sick days\, increasing energy and productivity\, and building immunity. Lunch catered by: Elizabeth's Catering
X-ALT-DESC;FMTTYPE=text/html:Come join us for a luncheon hosted by JOILful Living.<br />\nThey will be speaking on Wellness in the workplace with the focus on reducing stress and sick days\, increasing energy and productivity\, and building immunity. Lunch catered by: Elizabeth&#39\;s Catering&nbsp\;<br />\n&nbsp\;
LOCATION:Tooele County Chamber of Commerce 154 South Main Street Tooele
UID:e.125.5385
SEQUENCE:3
DTSTAMP:20260419T123138Z
URL:https://members.tooelechamber.com/events/details/chamber-luncheon-joilful-living-08-27-2014-5385
END:VEVENT

END:VCALENDAR
