BEGIN:VCALENDAR
VERSION:2.0
PRODID:-//ChamberMaster//Event Calendar 2.0//EN
METHOD:PUBLISH
X-PUBLISHED-TTL:P3D
REFRESH-INTERVAL:P3D
CALSCALE:GREGORIAN
BEGIN:VEVENT
DTSTART:20100929T180000Z
DTEND:20100929T190000Z
X-MICROSOFT-CDO-ALLDAYEVENT:FALSE
SUMMARY:Chamber Luncheon-New Reflections House-Valley Mental Health
DESCRIPTION:Wednesday\, September 29th from 12-1pm \n\n \n\nSponsor: Valley Mental Health \n\n \n\nLocation: New Reflections House\, 565 West 900 South\, Tooele \n\n \n\n$10 Member\, $15 Non-member\n\n \n\nSEATING IS LIMITED!! Please RSVP Monday\, Sept. 27th by 5pm \n\n \n\nChamber Office (435)882-0690
X-ALT-DESC;FMTTYPE=text/html:<strong><span style="background: honeydew"><span style="font-size: 14pt"><span style="color: black"><span style="font-family: californian fb\, serif">Wednesday\, September 29<sup>th</sup> from 12-1pm </span></span></span></span></strong><br />\n&nbsp\;<br />\n<strong><span style="background: honeydew"><span style="font-size: 14pt"><span style="color: black"><span style="font-family: californian fb\, serif">Sponsor: Valley Mental Health </span></span></span></span></strong><br />\n&nbsp\;<br />\n<strong><span style="background: honeydew"><span style="font-size: 14pt"><span style="color: black"><span style="font-family: californian fb\, serif">Location: New&nbsp\;Reflections House\,&nbsp\;565 West 900 South\, Tooele </span></span></span></span></strong><br />\n&nbsp\;<br />\n<strong><span style="background: honeydew"><span style="font-size: 14pt"><span style="color: black"><span style="font-family: californian fb\, serif">$10 Member\, $15 Non-member</span></span></span></span></strong><br />\n&nbsp\;<br />\n<strong><span style="background: honeydew"><span style="font-size: 14pt"><span style="color: black"><span style="font-family: californian fb\, serif">SEATING IS LIMITED</span></span></span></span></strong><strong><span style="background: honeydew"><span style="font-size: 14pt"><span style="color: black"><span style="font-family: californian fb\, serif">!! Please RSVP Monday\, Sept. 27<sup>th</sup> by 5pm </span></span></span></span></strong><br />\n&nbsp\;<br />\n<strong><span style="background: honeydew"><span style="font-size: 14pt"><span style="color: black"><span style="font-family: californian fb\, serif">Chamber Office (435)882-0690</span></span></span></span></strong><br />\n
LOCATION:
UID:e.125.3246
SEQUENCE:3
DTSTAMP:20260422T220306Z
URL:https://members.tooelechamber.com/events/details/chamber-luncheon-new-reflections-house-valley-mental-health-09-29-2010-3246
END:VEVENT

END:VCALENDAR
