BEGIN:VCALENDAR
VERSION:2.0
PRODID:-//ChamberMaster//Event Calendar 2.0//EN
METHOD:PUBLISH
X-PUBLISHED-TTL:P3D
REFRESH-INTERVAL:P3D
CALSCALE:GREGORIAN
BEGIN:VEVENT
DTSTART:20140312T180000Z
DTEND:20140312T190000Z
X-MICROSOFT-CDO-ALLDAYEVENT:FALSE
SUMMARY:Chamber Luncheon- Radiate Media
DESCRIPTION:Chamber Luncheon:\n\nRadiate Media\n\nWednesday\, March 12th \, 2014\n\n12:00 Noon\n\nAt the Chamber of Commerce\n\n154 South Main Street\n\nPlease RSVP by Monday\, March 10th\, 2014\n\nto\n\nstaff@tooelechamber.com\n\nor\n\n(435) 882-0690\n\n$10 for members\, $15 for non-members
X-ALT-DESC;FMTTYPE=text/html:<strong><span style="font-family:comic sans ms\;"><span style="font-size:16.0pt\;">Chamber Luncheon:</span></span></strong><br />\n<strong><span style="color:red\;"><span style="font-family:comic sans ms\;"><span style="font-size:16.0pt\;">Radiate Media</span></span></span></strong><br />\n<span style="font-family:arial\,sans-serif\;"><span style="font-size:14.0pt\;">Wednesday\, March 12th&nbsp\;</span><font size="4">\, 2014</font></span><br />\n<span style="font-family:arial\,sans-serif\;"><span style="font-size:14.0pt\;">12:00 Noon<br />\nAt the Chamber of Commerce</span></span><br />\n<span style="font-family:arial\,sans-serif\;"><span style="font-size:14.0pt\;">154 South Main Street</span></span><br />\n<span style="color:red\;"><span style="font-family:arial\,sans-serif\;"><span style="font-size:14.0pt\;">Please RSVP by Monday\, March 10th\, 2014</span></span></span><br />\n<span style="font-family:arial\,sans-serif\;"><span style="font-size:14.0pt\;">to</span></span><br />\n<span style="font-family:arial\,sans-serif\;"><span style="font-size:14.0pt\;"><a href="mailto:staff@tooelechamber.com" target="_blank">staff@tooelechamber.com</a></span></span><br />\n<span style="font-family:arial\,sans-serif\;"><span style="font-size:14.0pt\;">or</span></span><br />\n<span style="font-family:arial\,sans-serif\;"><span style="font-size:14.0pt\;"><a href="tel:%28435%29%20882-0690" target="_blank" value="+14358820690">(435) 882-0690</a></span></span><br />\n<span style="font-family:arial\,sans-serif\;"><span style="font-size:14.0pt\;">$10 for members\, $15 for non-members</span></span><br />\n
LOCATION:
UID:e.125.5064
SEQUENCE:3
DTSTAMP:20260420T000627Z
URL:https://members.tooelechamber.com/events/details/chamber-luncheon-radiate-media-03-12-2014-5064
END:VEVENT

END:VCALENDAR
