BEGIN:VCALENDAR
VERSION:2.0
PRODID:-//ChamberMaster//Event Calendar 2.0//EN
METHOD:PUBLISH
X-PUBLISHED-TTL:P3D
REFRESH-INTERVAL:P3D
CALSCALE:GREGORIAN
BEGIN:VEVENT
DTSTART:20070314T060000Z
DTEND:20070314T190000Z
X-MICROSOFT-CDO-ALLDAYEVENT:FALSE
SUMMARY:Chamber March Luncheon
DESCRIPTION:Chamber Monthly Luncheon\nSponsor:  Energy Solutions\nSpeaker:   Col. Pellissier- Commander Deseret Chemical Depot\nPlace:  La Frontera 494 South Main\, Tooele\nCost:  $10 per person\nPlease RSVP to Chamber Office 435-882-0690 by Monday\, March 12th\, 5pm
X-ALT-DESC;FMTTYPE=text/html:<p>Chamber Monthly Luncheon<br />Sponsor:&nbsp\; Energy Solutions<br />Speaker:&nbsp\;&nbsp\; Col. Pellissier- Commander Deseret Chemical Depot<br />Place:&nbsp\; La Frontera 494 South Main\, Tooele<br />Cost:&nbsp\; $10 per person<br />Please RSVP to Chamber Office 435-882-0690 by Monday\, March 12th\, 5pm</p>
LOCATION:La Frontera Mexican Restaurant 494 South Main\, Tooele
UID:e.125.58
SEQUENCE:3
DTSTAMP:20260425T155201Z
URL:https://members.tooelechamber.com/events/details/chamber-march-luncheon-03-14-2007-58
END:VEVENT

END:VCALENDAR
