BEGIN:VCALENDAR
VERSION:2.0
PRODID:-//ChamberMaster//Event Calendar 2.0//EN
METHOD:PUBLISH
X-PUBLISHED-TTL:P3D
REFRESH-INTERVAL:P3D
CALSCALE:GREGORIAN
BEGIN:VEVENT
DTSTART:20070516T180000Z
DTEND:20070516T190000Z
X-MICROSOFT-CDO-ALLDAYEVENT:FALSE
SUMMARY:Chamber May Luncheon
DESCRIPTION:Chamber Monthly Luncheon\nSponsor: Valley Mental Health\nSpeaker:   Valley Mental Health\nPlace:  Buddy's Family Entertainment Center\n*Catered By: Elizabeth's Catering*\nCost:  $10 per person\nPlease RSVP to Chamber Office 435-882-0690 by Monday\, May 14 \, 5pm
X-ALT-DESC;FMTTYPE=text/html:<p>Chamber Monthly Luncheon<br />Sponsor:&nbsp\;Valley Mental Health<br />Speaker:&nbsp\;&nbsp\; Valley Mental Health<br />Place:&nbsp\; Buddy&rsquo\;s Family Entertainment Center<br />*Catered By: Elizabeth's Catering*<br />Cost:&nbsp\; $10 per person<br />Please RSVP to Chamber Office 435-882-0690 by Monday\, May 14&nbsp\;\, 5pm</p>
LOCATION:Buddy's Family Entertainment Center
UID:e.125.95
SEQUENCE:3
DTSTAMP:20260425T125209Z
URL:https://members.tooelechamber.com/events/details/chamber-may-luncheon-05-16-2007-95
END:VEVENT

END:VCALENDAR
