BEGIN:VCALENDAR
VERSION:2.0
PRODID:-//ChamberMaster//Event Calendar 2.0//EN
METHOD:PUBLISH
X-PUBLISHED-TTL:P3D
REFRESH-INTERVAL:P3D
CALSCALE:GREGORIAN
BEGIN:VEVENT
DTSTART:20080830T000000Z
DTEND:20080830T000000Z
X-MICROSOFT-CDO-ALLDAYEVENT:FALSE
SUMMARY:Chamber of Commerce 60th Anniversary Community BBQ
DESCRIPTION:Help us in celebrating 60 years of service to\n Tooele County businesses & residents\n Friday\, August 29th \n BBQ starts at 6 pm\n Fridays on Vine- 7 pm\n Tooele City Park\n Vine & 200 West\, Tooele\n Hamburgers or Hot Dogs\n Drinks and chips- free with a can of food\n or $1.00 donation\n to be donated to charity\n Held in conjunction with\n Tooele City Fridays on Vine\n Entertainment- Painted Desert Band\n 435-882-0690
X-ALT-DESC;FMTTYPE=text/html:<div align="center">&nbsp\;<strong>Help us in celebrating 60 years of service to<br />&nbsp\;Tooele County businesses &amp\; residents<br />&nbsp\;Friday<a>\, August 29th <br />&nbsp\;BBQ starts at 6 pm<br />&nbsp\;Fridays on Vine- 7 pm<br />&nbsp\;Tooele City Park<br />&nbsp\;Vine &amp\; 200 West\, Tooele<br />&nbsp\;Hamburgers or Hot Dogs<br />&nbsp\;Drinks and chips- free with a can of food<br />&nbsp\;or $1.00 donation<br />&nbsp\;to be donated to charity<br />&nbsp\;Held in conjunction with<br />&nbsp\;Tooele City Fridays on Vine<br />&nbsp\;Entertainment- Painted Desert Band<br />&nbsp\;435-882-0690<font color="#ff0000"> </font></a></strong></div>
LOCATION:Veteran's Memorial ParkVine & Main\, Tooele
UID:e.125.428
SEQUENCE:3
DTSTAMP:20260424T141211Z
URL:https://members.tooelechamber.com/events/details/chamber-of-commerce-60th-anniversary-community-bbq-08-29-2008-428
END:VEVENT

END:VCALENDAR
