BEGIN:VCALENDAR
VERSION:2.0
PRODID:-//ChamberMaster//Event Calendar 2.0//EN
METHOD:PUBLISH
X-PUBLISHED-TTL:P3D
REFRESH-INTERVAL:P3D
CALSCALE:GREGORIAN
BEGIN:VEVENT
DTSTART;VALUE=DATE:20100101
DTEND;VALUE=DATE:20100102
TRANSP:TRANSPARENT
X-MICROSOFT-CDO-ALLDAYEVENT:TRUE
SUMMARY:Chamber Office Closed
DESCRIPTION:Chamber Office ClosedNew Years Day
X-ALT-DESC;FMTTYPE=text/html:<div style="text-align: center"><span style="font-size: medium">Chamber Office Closed</span></div><div style="text-align: center"><span style="font-size: medium">New Years Day</span></div>
LOCATION:
UID:e.125.2563
SEQUENCE:3
DTSTAMP:20260423T103557Z
URL:https://members.tooelechamber.com/events/details/chamber-office-closed-01-01-2010-2563
END:VEVENT

END:VCALENDAR
