BEGIN:VCALENDAR
VERSION:2.0
PRODID:-//ChamberMaster//Event Calendar 2.0//EN
METHOD:PUBLISH
X-PUBLISHED-TTL:P3D
REFRESH-INTERVAL:P3D
CALSCALE:GREGORIAN
BEGIN:VEVENT
DTSTART;VALUE=DATE:20120102
DTEND;VALUE=DATE:20120103
TRANSP:TRANSPARENT
X-MICROSOFT-CDO-ALLDAYEVENT:TRUE
SUMMARY:Chamber Office Closed
DESCRIPTION:Chamber Office will be Closed\n\n	January 2nd\, 2012\n\n	for the New Year Holiday!
X-ALT-DESC;FMTTYPE=text/html:<p style="text-align: center">\n	<span style="font-size: 20px"><u><strong>Chamber Office will be Closed<br />\n	January 2nd\, 2012<br />\n	for the New Year Holiday!</strong></u></span></p>\n
LOCATION:
UID:e.125.3949
SEQUENCE:3
DTSTAMP:20260421T203024Z
URL:https://members.tooelechamber.com/events/details/chamber-office-closed-01-02-2012-3949
END:VEVENT

END:VCALENDAR
