BEGIN:VCALENDAR
VERSION:2.0
PRODID:-//ChamberMaster//Event Calendar 2.0//EN
METHOD:PUBLISH
X-PUBLISHED-TTL:P3D
REFRESH-INTERVAL:P3D
CALSCALE:GREGORIAN
BEGIN:VEVENT
DTSTART;VALUE=DATE:20110117
DTEND;VALUE=DATE:20110118
TRANSP:TRANSPARENT
X-MICROSOFT-CDO-ALLDAYEVENT:TRUE
SUMMARY:Chamber Office Closed
DESCRIPTION:The Chamber Office will be closed\n\n	all day Monday\, January 17\, 2011\n\n	for Martin Luther King Day
X-ALT-DESC;FMTTYPE=text/html:<p style="text-align: center">\n	<span style="font-size: 26px">The Chamber Office will be closed<br />\n	all day Monday\, January 17\, 2011<br />\n	for Martin Luther King Day</span><br />\n	&nbsp\;</p>\n
LOCATION:
UID:e.125.3607
SEQUENCE:3
DTSTAMP:20260422T154051Z
URL:https://members.tooelechamber.com/events/details/chamber-office-closed-01-17-2011-3607
END:VEVENT

END:VCALENDAR
