BEGIN:VCALENDAR
VERSION:2.0
PRODID:-//ChamberMaster//Event Calendar 2.0//EN
METHOD:PUBLISH
X-PUBLISHED-TTL:P3D
REFRESH-INTERVAL:P3D
CALSCALE:GREGORIAN
BEGIN:VEVENT
DTSTART;VALUE=DATE:20090216
DTEND;VALUE=DATE:20090217
TRANSP:TRANSPARENT
X-MICROSOFT-CDO-ALLDAYEVENT:TRUE
SUMMARY:Chamber Office Closed
DESCRIPTION:Chamber Office ClosedChamber office will be closed\nMonday\, February 16th\nin observance of Presidents Day
X-ALT-DESC;FMTTYPE=text/html:<p align="center"><font size="2">&nbsp\;</font><strong><font face="Verdana" size="4"><u>Chamber Office Closed</u></font></strong></p><p align="center"><font size="4">Chamber office will be closed<br />Monday\, February 16th<br />in observance of Presidents Day</font></p>
LOCATION:
UID:e.125.534
SEQUENCE:3
DTSTAMP:20260424T041043Z
URL:https://members.tooelechamber.com/events/details/chamber-office-closed-02-16-2009-534
END:VEVENT

END:VCALENDAR
