BEGIN:VCALENDAR
VERSION:2.0
PRODID:-//ChamberMaster//Event Calendar 2.0//EN
METHOD:PUBLISH
X-PUBLISHED-TTL:P3D
REFRESH-INTERVAL:P3D
CALSCALE:GREGORIAN
BEGIN:VEVENT
DTSTART;VALUE=DATE:20080218
DTEND;VALUE=DATE:20080219
TRANSP:TRANSPARENT
X-MICROSOFT-CDO-ALLDAYEVENT:TRUE
SUMMARY:Chamber Office Closed
DESCRIPTION:Chamber office closed in observance of Presidents Day
X-ALT-DESC;FMTTYPE=text/html:<div><font size="3" color="#0000ff">Chamber office closed in observance of Presidents Day</font></div>
LOCATION:
UID:e.125.194
SEQUENCE:3
DTSTAMP:20260424T232023Z
URL:https://members.tooelechamber.com/events/details/chamber-office-closed-02-18-2008-194
END:VEVENT

END:VCALENDAR
