BEGIN:VCALENDAR
VERSION:2.0
PRODID:-//ChamberMaster//Event Calendar 2.0//EN
METHOD:PUBLISH
X-PUBLISHED-TTL:P3D
REFRESH-INTERVAL:P3D
CALSCALE:GREGORIAN
BEGIN:VEVENT
DTSTART;VALUE=DATE:20110513
DTEND;VALUE=DATE:20110514
TRANSP:TRANSPARENT
X-MICROSOFT-CDO-ALLDAYEVENT:TRUE
SUMMARY:Chamber Office Closed
DESCRIPTION:Office Closed\n\n	Friday\, May 13th\n\n	for Mayor's Annual Golf Tournament
X-ALT-DESC;FMTTYPE=text/html:<p style="text-align: center">\n	Office Closed<br />\n	Friday\, May 13th<br />\n	for Mayor&#39\;s Annual Golf Tournament</p>\n
LOCATION:
UID:e.125.3697
SEQUENCE:3
DTSTAMP:20260422T104216Z
URL:https://members.tooelechamber.com/events/details/chamber-office-closed-05-13-2011-3697
END:VEVENT

END:VCALENDAR
