BEGIN:VCALENDAR
VERSION:2.0
PRODID:-//ChamberMaster//Event Calendar 2.0//EN
METHOD:PUBLISH
X-PUBLISHED-TTL:P3D
REFRESH-INTERVAL:P3D
CALSCALE:GREGORIAN
BEGIN:VEVENT
DTSTART;VALUE=DATE:20080613
DTEND;VALUE=DATE:20080614
TRANSP:TRANSPARENT
X-MICROSOFT-CDO-ALLDAYEVENT:TRUE
SUMMARY:Chamber Office Closed
DESCRIPTION:Chamber Office ClosedChamber Golf Tournament
X-ALT-DESC;FMTTYPE=text/html:<div align="center"><font size="5">Chamber Office Closed</font></div><div align="center"><font size="5">Chamber Golf Tournament</font></div>
LOCATION:Oquirrh Hills Golf Course
UID:e.125.436
SEQUENCE:3
DTSTAMP:20260424T180851Z
URL:https://members.tooelechamber.com/events/details/chamber-office-closed-06-13-2008-436
END:VEVENT

END:VCALENDAR
