BEGIN:VCALENDAR
VERSION:2.0
PRODID:-//ChamberMaster//Event Calendar 2.0//EN
METHOD:PUBLISH
X-PUBLISHED-TTL:P3D
REFRESH-INTERVAL:P3D
CALSCALE:GREGORIAN
BEGIN:VEVENT
DTSTART;VALUE=DATE:20100723
DTEND;VALUE=DATE:20100724
TRANSP:TRANSPARENT
X-MICROSOFT-CDO-ALLDAYEVENT:TRUE
SUMMARY:Chamber Office CLOSED!
DESCRIPTION:The Chamber Office is CLOSED Friday\, July 23\, 2010in observance of Pioneer Day!!
X-ALT-DESC;FMTTYPE=text/html:<div style="text-align: center"><span style="font-size: x-large">The Chamber Office is CLOSED </span></div><div style="text-align: center"><span style="font-size: x-large">Friday\, July 23\, 2010</span></div><div style="text-align: center"><span style="font-size: x-large">in observance of Pioneer Day!!</span></div>
LOCATION:
UID:e.125.3215
SEQUENCE:3
DTSTAMP:20260423T031135Z
URL:https://members.tooelechamber.com/events/details/chamber-office-closed-07-23-2010-3215
END:VEVENT

END:VCALENDAR
