BEGIN:VCALENDAR
VERSION:2.0
PRODID:-//ChamberMaster//Event Calendar 2.0//EN
METHOD:PUBLISH
X-PUBLISHED-TTL:P3D
REFRESH-INTERVAL:P3D
CALSCALE:GREGORIAN
BEGIN:VEVENT
DTSTART;VALUE=DATE:20110725
DTEND;VALUE=DATE:20110726
TRANSP:TRANSPARENT
X-MICROSOFT-CDO-ALLDAYEVENT:TRUE
SUMMARY:Chamber Office Closed
DESCRIPTION:Chamber Office Closed \n\n	Monday\, July 25\, 2011 \n\n	In observance of Pioneer Day!
X-ALT-DESC;FMTTYPE=text/html:&nbsp\;\n<p class="MsoNormal" style="text-align: center\; margin-bottom: 0pt\; mso-pagination: none">\n	<span style="font-size: 26px"><span lang="en-US" style="font-style: italic\; font-family: 'californian fb'\; font-weight: bold\; mso-default-font-family: 'californian fb'\; mso-ascii-font-family: 'californian fb'\; mso-latin-font-family: 'californian fb'\; language: en-us\; mso-ansi-language: en-us">Chamber Office Closed </span></span><span lang="en-US" style="font-style: italic\; font-family: 'californian fb'\; font-size: 10pt\; font-weight: bold\; mso-default-font-family: 'californian fb'\; mso-ascii-font-family: 'californian fb'\; mso-latin-font-family: 'californian fb'\; language: en-us\; mso-ansi-language: en-us"><o:p></o:p></span></p>\n<p class="MsoNormal" style="text-align: center\; margin-bottom: 0pt\; mso-pagination: none">\n	<span style="font-size: 26px"><span lang="en-US" style="font-family: 'californian fb'\; mso-default-font-family: 'californian fb'\; mso-ascii-font-family: 'californian fb'\; mso-latin-font-family: 'californian fb'\; language: en-us\; mso-ansi-language: en-us">Monday\, July 25\, 2011 </span></span><span lang="en-US" style="font-family: 'californian fb'\; font-size: 10pt\; mso-default-font-family: 'californian fb'\; mso-ascii-font-family: 'californian fb'\; mso-latin-font-family: 'californian fb'\; language: en-us\; mso-ansi-language: en-us"><o:p></o:p></span></p>\n<p class="MsoNormal" style="text-align: center\; margin-bottom: 0pt\; mso-pagination: none">\n	<span style="font-size: 26px"><span lang="en-US" style="font-family: 'californian fb'\; mso-default-font-family: 'californian fb'\; mso-ascii-font-family: 'californian fb'\; mso-latin-font-family: 'californian fb'\; language: en-us\; mso-ansi-language: en-us">In observance of Pioneer Day!</span></span><span lang="en-US" style="font-family: 'californian fb'\; font-size: 10pt\; mso-default-font-family: 'californian fb'\; mso-ascii-font-family: 'californian fb'\; mso-latin-font-family: 'californian fb'\; language: en-us"><o:p></o:p></span></p>\n<p class="MsoNormal" style="mso-pagination: none">\n	<span lang="en-US" style="language: en-us">&nbsp\;<span _fck_bookmark="1" style="display: none">&nbsp\;</span><o:p></o:p></span></p>\n
LOCATION:
UID:e.125.3731
SEQUENCE:3
DTSTAMP:20260422T060115Z
URL:https://members.tooelechamber.com/events/details/chamber-office-closed-07-25-2011-3731
END:VEVENT

END:VCALENDAR
