BEGIN:VCALENDAR
VERSION:2.0
PRODID:-//ChamberMaster//Event Calendar 2.0//EN
METHOD:PUBLISH
X-PUBLISHED-TTL:P3D
REFRESH-INTERVAL:P3D
CALSCALE:GREGORIAN
BEGIN:VEVENT
DTSTART;VALUE=DATE:20090907
DTEND;VALUE=DATE:20090908
TRANSP:TRANSPARENT
X-MICROSOFT-CDO-ALLDAYEVENT:TRUE
SUMMARY:Chamber Office Closed
DESCRIPTION:Chamber office will be closedMonday\, September 7th in observance of Labor Day
X-ALT-DESC;FMTTYPE=text/html:<div align="center"><font size="5">Chamber office will be closed</font></div><div align="center"><font size="5">Monday\,&nbsp\;September 7th&nbsp\;</font></div><div align="center"><font size="5">in observance of Labor Day</font></div>
LOCATION:
UID:e.125.2507
SEQUENCE:3
DTSTAMP:20260423T181605Z
URL:https://members.tooelechamber.com/events/details/chamber-office-closed-09-07-2009-2507
END:VEVENT

END:VCALENDAR
