BEGIN:VCALENDAR
VERSION:2.0
PRODID:-//ChamberMaster//Event Calendar 2.0//EN
METHOD:PUBLISH
X-PUBLISHED-TTL:P3D
REFRESH-INTERVAL:P3D
CALSCALE:GREGORIAN
BEGIN:VEVENT
DTSTART;VALUE=DATE:20071122
DTEND;VALUE=DATE:20071124
TRANSP:TRANSPARENT
X-MICROSOFT-CDO-ALLDAYEVENT:TRUE
SUMMARY:Chamber Office Closed
DESCRIPTION:Chamber office will be closed Thursday and Friday\, November 22nd and 23rd for the Thanksgiving Holiday.
X-ALT-DESC;FMTTYPE=text/html:<p align="center"><font size="5">Chamber office will be closed Thursday and Friday\, November 22nd and 23rd for the Thanksgiving Holiday.</font></p>
LOCATION:
UID:e.125.177
SEQUENCE:3
DTSTAMP:20260425T040156Z
URL:https://members.tooelechamber.com/events/details/chamber-office-closed-11-22-2007-177
END:VEVENT

END:VCALENDAR
