BEGIN:VCALENDAR
VERSION:2.0
PRODID:-//ChamberMaster//Event Calendar 2.0//EN
METHOD:PUBLISH
X-PUBLISHED-TTL:P3D
REFRESH-INTERVAL:P3D
CALSCALE:GREGORIAN
BEGIN:VEVENT
DTSTART:20091205T170000Z
DTEND:20091206T060000Z
X-MICROSOFT-CDO-ALLDAYEVENT:FALSE
SUMMARY:Chamber Santa Parade
DESCRIPTION:The annual Tooele County Chamber of Commerce \nSanta Parade will be on \nSaturday\, December 5th at 10 am.\nThe parade will begin at Vine Street and 2nd West \, then \nnorth to Utah Ave.\, east to Main\, south to 100 South\, \nthen west to 50 West. Meet Santa after the parade at \nTooele City Hall\, 90 N. Main. There will be free hot\nchocolate and cookies at city hall after the parade. If you would like to participate in the parade please contact the Chamber Office at \n435-882-0690
X-ALT-DESC;FMTTYPE=text/html:<div><font face="Frutiger-LightCn" size="1"><font face="Frutiger-LightCn" size="1"><font size="4"><font face="GillSansMT" size="1"><font face="GillSansMT" size="1"><p style="text-align: center"><span style="font-size: small">The annual Tooele County Chamber of Commerce <br />Santa Parade will be on <br />Saturday\, December 5th at 10 am.<br />The parade will begin at Vine Street and 2nd West \, then <br />north to Utah Ave.\, east to Main\, south to 100 South\, <br />then west to 50 West. Meet Santa after the parade at <br />Tooele City Hall\, 90 N. Main. There will be free hot<br />chocolate and cookies at city hall after the parade. If you would like to participate in the parade please contact the Chamber Office at <br />435-882-0690<br /></span></p></font></font></font></font></font></div>
LOCATION:
UID:e.125.509
SEQUENCE:3
DTSTAMP:20260423T120046Z
URL:https://members.tooelechamber.com/events/details/chamber-santa-parade-12-05-2009-509
END:VEVENT

END:VCALENDAR
