BEGIN:VCALENDAR
VERSION:2.0
PRODID:-//ChamberMaster//Event Calendar 2.0//EN
METHOD:PUBLISH
X-PUBLISHED-TTL:P3D
REFRESH-INTERVAL:P3D
CALSCALE:GREGORIAN
BEGIN:VEVENT
DTSTART:20140606T140000Z
DTEND:20140606T180000Z
X-MICROSOFT-CDO-ALLDAYEVENT:FALSE
SUMMARY:Children's Justice Center Annual Golf Tournament
DESCRIPTION:Children's Justice Center's Annual Golf Tournament Fundraiser
X-ALT-DESC;FMTTYPE=text/html:Children&#39\;s Justice Center&#39\;s Annual Golf Tournament Fundraiser
LOCATION:Oquirrh HIlls Golf Course 1255 East Vine Street Tooele\, UT 84074
UID:e.125.5102
SEQUENCE:3
DTSTAMP:20260419T163308Z
URL:https://members.tooelechamber.com/events/details/children-s-justice-center-annual-golf-tournament-06-06-2014-5102
END:VEVENT

END:VCALENDAR
