BEGIN:VCALENDAR
VERSION:2.0
PRODID:-//ChamberMaster//Event Calendar 2.0//EN
METHOD:PUBLISH
X-PUBLISHED-TTL:P3D
REFRESH-INTERVAL:P3D
CALSCALE:GREGORIAN
BEGIN:VEVENT
DTSTART:20070427T010000Z
DTEND:20070427T020000Z
X-MICROSOFT-CDO-ALLDAYEVENT:FALSE
SUMMARY:Chocolate Party at La Frontera!
DESCRIPTION:Did you know that even doctors are telling us we should be eating the right kinds of chocolate for our health?  This is your chance to find out how chocolate can be both delicious AND good for you\, while you mingle with friends\, eat free appetizers and try free samples of healthy chocolate.  RSVP to Cindy Perry at Ovation Enterprises\, 435.882.3289.  \n\nLa Frontera is the dark brown building across the street from the Hampton Inn and Suites on the south end of town.  It's right off of main street\, you can't miss it!
X-ALT-DESC;FMTTYPE=text/html:Did you know that even doctors are telling us we should be eating the right kinds of chocolate for our health?  This is your chance to find out how chocolate can be both delicious AND good for you\, while you mingle with friends\, eat free appetizers and try free samples of healthy chocolate.  RSVP to Cindy Perry at Ovation Enterprises\, 435.882.3289.  \n\nLa Frontera is the dark brown building across the street from the Hampton Inn and Suites on the south end of town.  It's right off of main street\, you can't miss it!\n
LOCATION:La Frontera Mexican Restaurant 494 S Main\, Tooele\, UT
UID:e.125.83
SEQUENCE:3
DTSTAMP:20260425T141952Z
URL:https://members.tooelechamber.com/events/details/chocolate-party-at-la-frontera-04-26-2007-83
END:VEVENT

END:VCALENDAR
