BEGIN:VCALENDAR
VERSION:2.0
PRODID:-//ChamberMaster//Event Calendar 2.0//EN
METHOD:PUBLISH
X-PUBLISHED-TTL:P3D
REFRESH-INTERVAL:P3D
CALSCALE:GREGORIAN
BEGIN:VEVENT
DTSTART:20070321T060000Z
DTEND:20070321T060000Z
X-MICROSOFT-CDO-ALLDAYEVENT:FALSE
SUMMARY:Chocolate Party with Thurl Bailey
DESCRIPTION:Did you know Chocolate is a health food?  Science proves that the right kind of chocolate is good for you.  Come enjoy free samples of healthy chocolate\, music and a presentation by Utah Jazz legend Thurl Bailey.  Learn how you can eat healthy chocolate\, lose weight and improve your health!  RSVP Cindy at 435.882.3289 Seating is Limited
X-ALT-DESC;FMTTYPE=text/html:Did you know Chocolate is a health food?  Science proves that the right kind of chocolate is good for you.  Come enjoy free samples of healthy chocolate\, music and a presentation by Utah Jazz legend Thurl Bailey.  Learn how you can eat healthy chocolate\, lose weight and improve your health!  RSVP Cindy at 435.882.3289 Seating is Limited\n
LOCATION:Holiday Inn Express\, Tooele
UID:e.125.60
SEQUENCE:3
DTSTAMP:20260425T155150Z
URL:https://members.tooelechamber.com/events/details/chocolate-party-with-thurl-bailey-03-21-2007-60
END:VEVENT

END:VCALENDAR
