BEGIN:VCALENDAR
VERSION:2.0
PRODID:-//ChamberMaster//Event Calendar 2.0//EN
METHOD:PUBLISH
X-PUBLISHED-TTL:P3D
REFRESH-INTERVAL:P3D
CALSCALE:GREGORIAN
BEGIN:VEVENT
DTSTART;VALUE=DATE:20090529
DTEND;VALUE=DATE:20090530
TRANSP:TRANSPARENT
X-MICROSOFT-CDO-ALLDAYEVENT:TRUE
SUMMARY:CJC Annual Golf Tournament
DESCRIPTION:The Children's Justice Center Friend's Boardpresent their 10th Annual CharityGOLFTOURNAMENTOquirrh Hills Golf Course1255 East Vine StreetMay 29th\, 2009Check in @ 7:00 / Tee Off @ 8:00SHOTGUN START$75/person$300/team of 4Includes: Continental Breakfast\, Lunch sponsored by Domino'sPizza\, Drawings\, Door Prizes and a day of GREAT GOLFING!*SIGN UP by Friday\, May 15th*For more information please call: 843-3440All proceeds will benefit the Tooele County Children's Justice Center"A place where small voices can be heard"
X-ALT-DESC;FMTTYPE=text/html:<div><strong><font face="BenguiatITCbyBT-Bold" size="5"><font face="BenguiatITCbyBT-Bold" size="5"><p align="center">The Children&rsquo\;s Justice Center Friend&rsquo\;s Board</p><p align="center">present their 10th Annual Charity</p></font></font><font face="BenguiatITCbyBT-Bold" color="#cd00cd" size="7"><font face="BenguiatITCbyBT-Bold" color="#cd00cd" size="7"><font face="BenguiatITCbyBT-Bold" color="#cd00cd" size="7"><p align="center">GOLF</p><p align="center">TOURNAMENT</p></font></font></font><font face="BenguiatITCbyBT-Bold" size="6"><font face="BenguiatITCbyBT-Bold" size="6"><p align="center">Oquirrh Hills Golf Course</p><p align="center">1255 East Vine Street</p></font></font><font face="BenguiatITCbyBT-Bold" color="#cd00ff" size="7"><font face="BenguiatITCbyBT-Bold" color="#cd00ff" size="7"><font face="BenguiatITCbyBT-Bold" color="#cd00ff" size="7"><p align="center">May 29th\, 2009</p></font></font></font><font face="BenguiatITCbyBT-Bold" size="6"><font face="BenguiatITCbyBT-Bold" size="6"><p align="center">Check in @ 7:00 / Tee Off @ 8:00</p><p align="center">SHOTGUN START</p><p align="center">$75/person</p><p align="center">$300/team of 4</p></font></font><font face="BenguiatITCbyBT-Bold" color="#339b33" size="5"><font face="BenguiatITCbyBT-Bold" color="#339b33" size="5"><font face="BenguiatITCbyBT-Bold" color="#339b33" size="5"><p align="center">Includes: Continental Breakfast\, Lunch sponsored by Domino&rsquo\;s</p><p align="center">Pizza\, Drawings\, Door Prizes and a day of GREAT GOLFING!</p></font></font></font><font face="BenguiatITCbyBT-Bold" size="5"><font face="BenguiatITCbyBT-Bold" size="5"><p align="center">*SIGN UP by Friday\, May 15th*</p></font></font><font face="BenguiatITCbyBT-Bold" size="4"><font face="BenguiatITCbyBT-Bold" size="4"><p align="center">For more information please call: 843-3440</p><p align="center">All proceeds will benefit the Tooele County Children&rsquo\;s Justice Center</p><p align="center">&ldquo\;A place where small voices can be heard&rdquo\;</p></font></font></strong></div>
LOCATION:
UID:e.125.549
SEQUENCE:3
DTSTAMP:20260423T232148Z
URL:https://members.tooelechamber.com/events/details/cjc-annual-golf-tournament-05-29-2009-549
END:VEVENT

END:VCALENDAR
