BEGIN:VCALENDAR
VERSION:2.0
PRODID:-//ChamberMaster//Event Calendar 2.0//EN
METHOD:PUBLISH
X-PUBLISHED-TTL:P3D
REFRESH-INTERVAL:P3D
CALSCALE:GREGORIAN
BEGIN:VEVENT
DTSTART;VALUE=DATE:20130902
DTEND;VALUE=DATE:20130903
TRANSP:TRANSPARENT
X-MICROSOFT-CDO-ALLDAYEVENT:TRUE
SUMMARY:Closed for Labor Day
DESCRIPTION:The Chamber of Commerce will be closed September 2nd for Labor day.
X-ALT-DESC;FMTTYPE=text/html:The Chamber of Commerce will be closed September 2nd for Labor day.
LOCATION:
UID:e.125.5046
SEQUENCE:3
DTSTAMP:20260420T094813Z
URL:https://members.tooelechamber.com/events/details/closed-for-labor-day-09-02-2013-5046
END:VEVENT

END:VCALENDAR
