BEGIN:VCALENDAR
VERSION:2.0
PRODID:-//ChamberMaster//Event Calendar 2.0//EN
METHOD:PUBLISH
X-PUBLISHED-TTL:P3D
REFRESH-INTERVAL:P3D
CALSCALE:GREGORIAN
BEGIN:VEVENT
DTSTART;VALUE=DATE:20140501
DTEND;VALUE=DATE:20140503
TRANSP:TRANSPARENT
X-MICROSOFT-CDO-ALLDAYEVENT:TRUE
SUMMARY:Coloring Contest Starts
DESCRIPTION:Japanese Culture Coloring Contest\n\nVisit our library between May 1-24th\, 2014\n\nRULES: \n\n-Color Only (1) of (3) available coloring pages.\n-Participant must be between ages 12 and younger\n-All entries must be turned in to a staff member no later than 2:00pm\, Saturday\, 24May2014 @ Grantsville City Library \n\n-Winners will be notified Saturday\, 31May2014
X-ALT-DESC;FMTTYPE=text/html:Japanese Culture Coloring Contest\n\nVisit our library between May 1-24th\, 2014\n\nRULES: \n\n-Color Only (1) of (3) available coloring pages.\n-Participant must be between ages 12 and younger\n-All entries must be turned in to a staff member no later than 2:00pm\, Saturday\, 24May2014 @ Grantsville City Library \n\n-Winners will be notified Saturday\, 31May2014
LOCATION:
UID:e.125.5529
SEQUENCE:3
DTSTAMP:20260419T181432Z
URL:https://members.tooelechamber.com/events/details/coloring-contest-starts-05-01-2014-5529
END:VEVENT

END:VCALENDAR
