BEGIN:VCALENDAR
VERSION:2.0
PRODID:-//ChamberMaster//Event Calendar 2.0//EN
METHOD:PUBLISH
X-PUBLISHED-TTL:P3D
REFRESH-INTERVAL:P3D
CALSCALE:GREGORIAN
BEGIN:VEVENT
DTSTART:20101115T220000Z
DTEND:20101116T030000Z
X-MICROSOFT-CDO-ALLDAYEVENT:FALSE
SUMMARY:Community Fall Festival
DESCRIPTION:Community Fall Festival\n\n	Monday\, November 15\, 2010\n\n	Deseret Peak Convention Center\n\n	2930 West Hwy 112\, Tooele\n\n	- Carnival Games\n\n	- Prizes\n\n	- Food\n\n	All proceeds will benefit Chris Larson and Jasmine Borup\n\n	For more information: (435)849-2434 or (435)840-0434\n\n	tooelefallfestival@gmail.com
X-ALT-DESC;FMTTYPE=text/html:<p style="text-align: center">\n	<span style="font-size: 20px"><strong><u>Community Fall Festival</u></strong><br />\n	Monday\, November 15\, 2010<br />\n	Deseret Peak Convention Center<br />\n	2930 West Hwy 112\, Tooele<br />\n	- Carnival Games<br />\n	- Prizes<br />\n	- Food<br />\n	All proceeds will benefit Chris Larson and Jasmine Borup<br />\n	For more information: (435)849-2434 or (435)840-0434<br />\n	<a href="mailto:tooelefallfestival@gmail.com">tooelefallfestival@gmail.com</a> </span></p>\n
LOCATION:
UID:e.125.3265
SEQUENCE:3
DTSTAMP:20260422T202915Z
URL:https://members.tooelechamber.com/events/details/community-fall-festival-11-15-2010-3265
END:VEVENT

END:VCALENDAR
