BEGIN:VCALENDAR
VERSION:2.0
PRODID:-//ChamberMaster//Event Calendar 2.0//EN
METHOD:PUBLISH
X-PUBLISHED-TTL:P3D
REFRESH-INTERVAL:P3D
CALSCALE:GREGORIAN
BEGIN:VEVENT
DTSTART:20120716T233000Z
DTEND:20120717T040000Z
X-MICROSOFT-CDO-ALLDAYEVENT:FALSE
SUMMARY:Corporate Archery
DESCRIPTION:Corporate Games\n\nJuly 16\, 2012\n\nArchery\n\nDeseret Peak Complex\n\n5:30 PM
X-ALT-DESC;FMTTYPE=text/html:<span style="font-size: 20px">Corporate Games<br />\nJuly 16\, 2012<br />\nArchery<br />\nDeseret Peak Complex<br />\n5:30 PM</span>
LOCATION:
UID:e.125.4818
SEQUENCE:3
DTSTAMP:20260421T103050Z
URL:https://members.tooelechamber.com/events/details/corporate-archery-07-16-2012-4818
END:VEVENT

END:VCALENDAR
