BEGIN:VCALENDAR
VERSION:2.0
PRODID:-//ChamberMaster//Event Calendar 2.0//EN
METHOD:PUBLISH
X-PUBLISHED-TTL:P3D
REFRESH-INTERVAL:P3D
CALSCALE:GREGORIAN
BEGIN:VEVENT
DTSTART:20120720T233000Z
DTEND:20120721T040000Z
X-MICROSOFT-CDO-ALLDAYEVENT:FALSE
SUMMARY:Corporate Billiards 8-Ball
DESCRIPTION:Corporate Games\n\nJuly 20\, 2012\n\nBilliards 8-Ball\n\nAll Star Lanes\n\n5:30 PM
X-ALT-DESC;FMTTYPE=text/html:<span style="font-size: 20px">Corporate Games<br />\nJuly 20\, 2012<br />\nBilliards 8-Ball<br />\nAll Star Lanes<br />\n5:30 PM</span>
LOCATION:
UID:e.125.4821
SEQUENCE:3
DTSTAMP:20260421T103251Z
URL:https://members.tooelechamber.com/events/details/corporate-billiards-8-ball-07-20-2012-4821
END:VEVENT

END:VCALENDAR
