BEGIN:VCALENDAR
VERSION:2.0
PRODID:-//ChamberMaster//Event Calendar 2.0//EN
METHOD:PUBLISH
X-PUBLISHED-TTL:P3D
REFRESH-INTERVAL:P3D
CALSCALE:GREGORIAN
BEGIN:VEVENT
DTSTART:20120727T233000Z
DTEND:20120728T040000Z
X-MICROSOFT-CDO-ALLDAYEVENT:FALSE
SUMMARY:Corporate Bowling (Coed)
DESCRIPTION:Corporate Games\n\nJuly 27\, 2012\n\nBowling (Coed)\n\nAll Star Lanes\n\n5:30 PM
X-ALT-DESC;FMTTYPE=text/html:<span style="font-size: 20px">Corporate Games<br />\nJuly 27\, 2012<br />\nBowling (Coed)<br />\nAll Star Lanes<br />\n5:30 PM</span>
LOCATION:
UID:e.125.4824
SEQUENCE:3
DTSTAMP:20260421T122011Z
URL:https://members.tooelechamber.com/events/details/corporate-bowling-coed-07-27-2012-4824
END:VEVENT

END:VCALENDAR
