BEGIN:VCALENDAR
VERSION:2.0
PRODID:-//ChamberMaster//Event Calendar 2.0//EN
METHOD:PUBLISH
X-PUBLISHED-TTL:P3D
REFRESH-INTERVAL:P3D
CALSCALE:GREGORIAN
BEGIN:VEVENT
DTSTART:20120731T233000Z
DTEND:20120801T040000Z
X-MICROSOFT-CDO-ALLDAYEVENT:FALSE
SUMMARY:Corporate Cycling (Coed)
DESCRIPTION:Corporate Games\n\nJuly 31\, 2012\n\nCycling (Coed)\n\nMiller Motorsports Park\n\n5:30 PM
X-ALT-DESC;FMTTYPE=text/html:<span style="font-size: 20px">Corporate Games<br />\nJuly 31\, 2012<br />\nCycling (Coed)<br />\nMiller Motorsports Park<br />\n5:30 PM</span>
LOCATION:
UID:e.125.4828
SEQUENCE:3
DTSTAMP:20260421T103243Z
URL:https://members.tooelechamber.com/events/details/corporate-cycling-coed-07-31-2012-4828
END:VEVENT

END:VCALENDAR
