BEGIN:VCALENDAR
VERSION:2.0
PRODID:-//ChamberMaster//Event Calendar 2.0//EN
METHOD:PUBLISH
X-PUBLISHED-TTL:P3D
REFRESH-INTERVAL:P3D
CALSCALE:GREGORIAN
BEGIN:VEVENT
DTSTART:20120714T120000Z
DTEND:20120714T180000Z
X-MICROSOFT-CDO-ALLDAYEVENT:FALSE
SUMMARY:Corporate Fishing
DESCRIPTION:Corporate Games\n\nJuly 14\, 2012\n\nFishing\n\nTooele Army Depot\n\n6:00 AM
X-ALT-DESC;FMTTYPE=text/html:<span style="font-size: 20px">Corporate Games<br />\nJuly 14\, 2012<br />\nFishing<br />\nTooele Army Depot<br />\n6:00 AM</span>
LOCATION:
UID:e.125.4816
SEQUENCE:3
DTSTAMP:20260421T103417Z
URL:https://members.tooelechamber.com/events/details/corporate-fishing-07-14-2012-4816
END:VEVENT

END:VCALENDAR
