BEGIN:VCALENDAR
VERSION:2.0
PRODID:-//ChamberMaster//Event Calendar 2.0//EN
METHOD:PUBLISH
X-PUBLISHED-TTL:P3D
REFRESH-INTERVAL:P3D
CALSCALE:GREGORIAN
BEGIN:VEVENT
DTSTART:20140715T233000Z
DTEND:20140716T013000Z
X-MICROSOFT-CDO-ALLDAYEVENT:FALSE
SUMMARY:Corporate Games: Billiards Scotch Doubles
DESCRIPTION:Corporate Games: Billiards Scotch Doubles
X-ALT-DESC;FMTTYPE=text/html:Corporate Games: Billiards Scotch Doubles
LOCATION:All Star Lanes 1111 North 200 West Tooele\, UT 84074
UID:e.125.5363
SEQUENCE:3
DTSTAMP:20260419T162624Z
URL:https://members.tooelechamber.com/events/details/corporate-games-billiards-scotch-doubles-07-15-2014-5363
END:VEVENT

END:VCALENDAR
