BEGIN:VCALENDAR
VERSION:2.0
PRODID:-//ChamberMaster//Event Calendar 2.0//EN
METHOD:PUBLISH
X-PUBLISHED-TTL:P3D
REFRESH-INTERVAL:P3D
CALSCALE:GREGORIAN
BEGIN:VEVENT
DTSTART:20110723T120000Z
DTEND:20110723T160000Z
X-MICROSOFT-CDO-ALLDAYEVENT:FALSE
SUMMARY:Corporate Games Event
DESCRIPTION:Tooele County Corporate Games\n\n	Event: Fishing from 6-10am\n\n	Contact: Chamber Office 435-882-0690
X-ALT-DESC;FMTTYPE=text/html:<p style="text-align: center">\n	<span style="font-size: 24px">Tooele County Corporate Games<br />\n	Event: Fishing from 6-10am<br />\n	Contact: Chamber Office 435-882-0690</span></p>\n
LOCATION:
UID:e.125.3665
SEQUENCE:3
DTSTAMP:20260422T060136Z
URL:https://members.tooelechamber.com/events/details/corporate-games-event-07-23-2011-3665
END:VEVENT

END:VCALENDAR
