BEGIN:VCALENDAR
VERSION:2.0
PRODID:-//ChamberMaster//Event Calendar 2.0//EN
METHOD:PUBLISH
X-PUBLISHED-TTL:P3D
REFRESH-INTERVAL:P3D
CALSCALE:GREGORIAN
BEGIN:VEVENT
DTSTART:20110729T230000Z
DTEND:20110730T030000Z
X-MICROSOFT-CDO-ALLDAYEVENT:FALSE
SUMMARY:Corporate Games Event
DESCRIPTION:Tooele County Chamber of Commerce\n\n	Event: 5-on-5 Flag Football @ 5pm\n\n	Contact: Chamber Office 435-882-0690
X-ALT-DESC;FMTTYPE=text/html:<p style="text-align: center">\n	<span style="font-size: 24px">Tooele County Chamber of Commerce<br />\n	Event: 5-on-5 Flag Football @ 5pm<br />\n	Contact: Chamber Office 435-882-0690<span _fck_bookmark="1" style="display: none">&nbsp\;</span></span></p>\n
LOCATION:
UID:e.125.3667
SEQUENCE:3
DTSTAMP:20260422T060114Z
URL:https://members.tooelechamber.com/events/details/corporate-games-event-07-29-2011-3667
END:VEVENT

END:VCALENDAR
