BEGIN:VCALENDAR
VERSION:2.0
PRODID:-//ChamberMaster//Event Calendar 2.0//EN
METHOD:PUBLISH
X-PUBLISHED-TTL:P3D
REFRESH-INTERVAL:P3D
CALSCALE:GREGORIAN
BEGIN:VEVENT
DTSTART:20110715T230000Z
DTEND:20110716T030000Z
X-MICROSOFT-CDO-ALLDAYEVENT:FALSE
SUMMARY:Corporate Games Events
DESCRIPTION:Corporate Games Event \n\n	Texas Hold 'em Poker
X-ALT-DESC;FMTTYPE=text/html:<p style="text-align: center">\n	<span style="font-size: 26px">Corporate Games Event </span></p>\n<p style="text-align: center">\n	<span style="font-size: 26px">Texas Hold &#39\;em Poker </span></p>\n
LOCATION:
UID:e.125.3661
SEQUENCE:3
DTSTAMP:20260422T061750Z
URL:https://members.tooelechamber.com/events/details/corporate-games-events-07-15-2011-3661
END:VEVENT

END:VCALENDAR
