BEGIN:VCALENDAR
VERSION:2.0
PRODID:-//ChamberMaster//Event Calendar 2.0//EN
METHOD:PUBLISH
X-PUBLISHED-TTL:P3D
REFRESH-INTERVAL:P3D
CALSCALE:GREGORIAN
BEGIN:VEVENT
DTSTART:20140726T120000Z
DTEND:20140726T140000Z
X-MICROSOFT-CDO-ALLDAYEVENT:FALSE
SUMMARY:Corporate Games: Fishing
DESCRIPTION:Corporate Games: Fishing
X-ALT-DESC;FMTTYPE=text/html:Corporate Games: Fishing<br />\n&nbsp\;
LOCATION:Tooele Army Depot Rainbow Reservoir
UID:e.125.5369
SEQUENCE:3
DTSTAMP:20260419T142920Z
URL:https://members.tooelechamber.com/events/details/corporate-games-fishing-07-26-2014-5369
END:VEVENT

END:VCALENDAR
