BEGIN:VCALENDAR
VERSION:2.0
PRODID:-//ChamberMaster//Event Calendar 2.0//EN
METHOD:PUBLISH
X-PUBLISHED-TTL:P3D
REFRESH-INTERVAL:P3D
CALSCALE:GREGORIAN
BEGIN:VEVENT
DTSTART:20140701T150000Z
DTEND:20140701T230000Z
X-MICROSOFT-CDO-ALLDAYEVENT:FALSE
SUMMARY:Corporate Games Registration Deadline
DESCRIPTION:Registration Deadline for Corporate games. Form Must be submitted to cody@tooelechamber.com or delivered to 154 South Main Street\, Tooele\, UT 84074 by 5:00 Pm\n\n\n\nRegistration Form:\n\nhttp://tooelechamber.com/wp-content/uploads/2014/03/2014-Registration-Form.pdf
X-ALT-DESC;FMTTYPE=text/html:Registration Deadline for Corporate games. Form Must be submitted to cody@tooelechamber.com or delivered to 154 South Main Street\, Tooele\, UT 84074 by 5:00 Pm<br />\n<br />\nRegistration Form:<br />\n<a href="http://tooelechamber.com/wp-content/uploads/2014/03/2014-Registration-Form.pdf">http://tooelechamber.com/wp-content/uploads/2014/03/2014-Registration-Form.pdf</a>
LOCATION:
UID:e.125.5338
SEQUENCE:3
DTSTAMP:20260419T162506Z
URL:https://members.tooelechamber.com/events/details/corporate-games-registration-deadline-07-01-2014-5338
END:VEVENT

END:VCALENDAR
