BEGIN:VCALENDAR
VERSION:2.0
PRODID:-//ChamberMaster//Event Calendar 2.0//EN
METHOD:PUBLISH
X-PUBLISHED-TTL:P3D
REFRESH-INTERVAL:P3D
CALSCALE:GREGORIAN
BEGIN:VEVENT
DTSTART:20120728T150000Z
DTEND:20120728T180000Z
X-MICROSOFT-CDO-ALLDAYEVENT:FALSE
SUMMARY:Corporate Horseshoes
DESCRIPTION:Corporate Games\n\nJuly 28\, 2012\n\nHorseshoes\n\nTooele Army Depot\n\n9:00 AM
X-ALT-DESC;FMTTYPE=text/html:<span style="font-size: 20px">Corporate Games<br />\nJuly 28\, 2012<br />\nHorseshoes<br />\nTooele Army Depot<br />\n9:00 AM</span>
LOCATION:
UID:e.125.4825
SEQUENCE:3
DTSTAMP:20260421T122214Z
URL:https://members.tooelechamber.com/events/details/corporate-horseshoes-07-28-2012-4825
END:VEVENT

END:VCALENDAR
