BEGIN:VCALENDAR
VERSION:2.0
PRODID:-//ChamberMaster//Event Calendar 2.0//EN
METHOD:PUBLISH
X-PUBLISHED-TTL:P3D
REFRESH-INTERVAL:P3D
CALSCALE:GREGORIAN
BEGIN:VEVENT
DTSTART:20110703T000000Z
DTEND:20110703T040000Z
X-MICROSOFT-CDO-ALLDAYEVENT:FALSE
SUMMARY:Corvette Car Show
DESCRIPTION:Corvette Car Show\n\n	Saturday\, July 2\, 2011 from 6-10pm\n\n	Tooele City Park\n\n	200 West Vine Street\, Tooele\n\n	Live Entertainment!!
X-ALT-DESC;FMTTYPE=text/html:<p style="text-align: center">\n	<span style="font-size: 26px">Corvette Car Show<br />\n	Saturday\, July 2\, 2011 from 6-10pm<br />\n	Tooele City Park<br />\n	200 West Vine Street\, Tooele<br />\n	Live Entertainment!!</span></p>\n
LOCATION:
UID:e.125.3714
SEQUENCE:3
DTSTAMP:20260422T073913Z
URL:https://members.tooelechamber.com/events/details/corvette-car-show-07-02-2011-3714
END:VEVENT

END:VCALENDAR
