BEGIN:VCALENDAR
VERSION:2.0
PRODID:-//ChamberMaster//Event Calendar 2.0//EN
METHOD:PUBLISH
X-PUBLISHED-TTL:P3D
REFRESH-INTERVAL:P3D
CALSCALE:GREGORIAN
BEGIN:VEVENT
DTSTART:20110209T003000Z
DTEND:20110209T020000Z
X-MICROSOFT-CDO-ALLDAYEVENT:FALSE
SUMMARY:County Legislative Caucus Meeting
DESCRIPTION:County Legislative Caucus Meeting \n\n	Tuesday\, February 8\, 2011 @ 5:30pm \nat the Utah State Capital\n\nHouse Bldg (West Bldg)  Room #30\n\neveryone is invited!\n\nFor questions or concerns contact the County Commission Office @ 435-843-3150
X-ALT-DESC;FMTTYPE=text/html:<p>\n	<span style="font-size: 18px">County Legislative Caucus Meeting </span></p>\n<p>\n	<span style="font-size: 18px">Tuesday\, February 8\, 2011 @ 5:30pm </span></p>\n<span style="font-size: 18px">at the Utah State Capital<br />\nHouse Bldg (West Bldg)&nbsp\; Room #30<br />\neveryone is invited!<br />\nFor questions or concerns contact the County Commission Office @ 435-843-3150</span><br />\n
LOCATION:
UID:e.125.3599
SEQUENCE:3
DTSTAMP:20260422T135733Z
URL:https://members.tooelechamber.com/events/details/county-legislative-caucus-meeting-02-08-2011-3599
END:VEVENT

END:VCALENDAR
