BEGIN:VCALENDAR
VERSION:2.0
PRODID:-//ChamberMaster//Event Calendar 2.0//EN
METHOD:PUBLISH
X-PUBLISHED-TTL:P3D
REFRESH-INTERVAL:P3D
CALSCALE:GREGORIAN
BEGIN:VEVENT
DTSTART:20070123T070000Z
DTEND:20070208T070000Z
X-MICROSOFT-CDO-ALLDAYEVENT:FALSE
SUMMARY:Credit Optimization Workshop
DESCRIPTION:Come learn tips and tricks to improve credit score no matter how good it already is. Each attendee walks away with lots of free information.
X-ALT-DESC;FMTTYPE=text/html:Come learn tips and tricks to improve credit score no matter how good it already is. Each attendee walks away with lots of free information.
LOCATION:60 South Main Street
UID:e.125.46
SEQUENCE:3
DTSTAMP:20260425T170254Z
URL:https://members.tooelechamber.com/events/details/credit-optimization-workshop-01-23-2007-46
END:VEVENT

END:VCALENDAR
