BEGIN:VCALENDAR
VERSION:2.0
PRODID:-//ChamberMaster//Event Calendar 2.0//EN
METHOD:PUBLISH
X-PUBLISHED-TTL:P3D
REFRESH-INTERVAL:P3D
CALSCALE:GREGORIAN
BEGIN:VEVENT
DTSTART:20110817T180000Z
DTEND:20110817T190000Z
X-MICROSOFT-CDO-ALLDAYEVENT:FALSE
SUMMARY:Curling Iron Tricks
DESCRIPTION:Mini-Lesson\n\n	Lunch N Learn Series\n\n	Presented by: Tooele Applied Technology College\n\n	66 West Vine Street\, Tooele\n\n	Free to the public\, includes pizza lunch!\n\n	Limited seating\, RSVP's accepted for accurate lunch count\n\n	 Curling Iron Tricks with Lyle Ferguson and Cosmetology/Barbering Students\n\n	Learn curling iron tricks and techniques to achieve perfect curls whether you have short\, medium\, or long hair
X-ALT-DESC;FMTTYPE=text/html:<p style="text-align: center">\n	<span style="font-size: 18px">Mini-Lesson<br />\n	Lunch N Learn Series<br />\n	Presented by: Tooele Applied Technology College<br />\n	66 West Vine Street\, Tooele<br />\n	Free to the public\, includes pizza lunch!<br />\n	Limited seating\, RSVP&#39\;s accepted for accurate lunch count<br />\n	<span _fck_bookmark="1" style="display: none">&nbsp\;</span>Curling Iron Tricks with Lyle Ferguson and Cosmetology/Barbering Students<br />\n	Learn curling iron tricks and techniques to achieve perfect curls whether you have short\, medium\, or long hair </span></p>\n
LOCATION:
UID:e.125.3590
SEQUENCE:3
DTSTAMP:20260422T061346Z
URL:https://members.tooelechamber.com/events/details/curling-iron-tricks-08-17-2011-3590
END:VEVENT

END:VCALENDAR
