BEGIN:VCALENDAR
VERSION:2.0
PRODID:-//ChamberMaster//Event Calendar 2.0//EN
METHOD:PUBLISH
X-PUBLISHED-TTL:P3D
REFRESH-INTERVAL:P3D
CALSCALE:GREGORIAN
BEGIN:VEVENT
DTSTART:20100722T230000Z
DTEND:20100723T020000Z
X-MICROSOFT-CDO-ALLDAYEVENT:FALSE
SUMMARY:Customer Apperciation
DESCRIPTION:Come to Triple-T for a Customer Appreciation Day!! Thursday\, Friday 22\, 2010 from 5-8pm 278 North Main Street\, TooeleBounce House provided by Jumpin' Jack Splash Food provided by ManCave Prizes\, music\, fun for whole family!!!
X-ALT-DESC;FMTTYPE=text/html:<div style="text-align: center"><span style="font-size: large"><span style="font-family: Comic Sans MS">Come to Triple-T for a </span></span></div><div style="text-align: center"><strong><span style="font-size: large"><span style="font-family: Comic Sans MS">Customer Appreciation Day!! </span></span></strong></div><div style="text-align: center"><span style="font-size: large"><span style="font-family: Comic Sans MS">Thursday\, Friday 22\, 2010 from 5-8pm </span></span></div><div style="text-align: center"><span style="font-size: large"><span style="font-family: Comic Sans MS">278 North Main Street\, Tooele</span></span></div><div style="text-align: center"><span style="font-size: large"><span style="font-family: Comic Sans MS">Bounce House provided by Jumpin' Jack Splash </span></span></div><div style="text-align: center"><span style="font-size: large"><span style="font-family: Comic Sans MS">Food provided by ManCave </span></span></div><div style="text-align: center"><span style="font-size: large"><span style="font-family: Comic Sans MS">Prizes\, music\, fun for whole family!!!</span></span></div><div>&nbsp\;</div>
LOCATION:
UID:e.125.3214
SEQUENCE:3
DTSTAMP:20260423T030849Z
URL:https://members.tooelechamber.com/events/details/customer-apperciation-07-22-2010-3214
END:VEVENT

END:VCALENDAR
