BEGIN:VCALENDAR
VERSION:2.0
PRODID:-//ChamberMaster//Event Calendar 2.0//EN
METHOD:PUBLISH
X-PUBLISHED-TTL:P3D
REFRESH-INTERVAL:P3D
CALSCALE:GREGORIAN
BEGIN:VEVENT
DTSTART;VALUE=DATE:20090904
DTEND;VALUE=DATE:20090907
TRANSP:TRANSPARENT
X-MICROSOFT-CDO-ALLDAYEVENT:TRUE
SUMMARY:Cycle Fest
DESCRIPTION:Join us in watching three exciting races in one weekend.\nBonneville Vintage GP with vintage and antique racing motorcycles of the American Historic Motorcycle Racing Association.\nThe Honda Presents the Plaza Cycle Masters of the Mountains road-racing series\nThe Plaza Cycle Utah Supermoto Championship
X-ALT-DESC;FMTTYPE=text/html:Join us in watching three exciting races in one weekend.\nBonneville Vintage GP with vintage and antique racing motorcycles of the American Historic Motorcycle Racing Association.\nThe Honda Presents the Plaza Cycle Masters of the Mountains road-racing series\nThe Plaza Cycle Utah Supermoto Championship
LOCATION:Miller Motorsports Park
UID:e.125.494
SEQUENCE:3
DTSTAMP:20260423T180626Z
URL:https://members.tooelechamber.com/events/details/cycle-fest-09-04-2009-494
END:VEVENT

END:VCALENDAR
