BEGIN:VCALENDAR
VERSION:2.0
PRODID:-//ChamberMaster//Event Calendar 2.0//EN
METHOD:PUBLISH
X-PUBLISHED-TTL:P3D
REFRESH-INTERVAL:P3D
CALSCALE:GREGORIAN
BEGIN:VEVENT
DTSTART:20140827T220000Z
DTEND:20140828T000000Z
X-MICROSOFT-CDO-ALLDAYEVENT:FALSE
SUMMARY:DaVinci Academy Information Mtg.
DESCRIPTION:DaVinci Academy Information Mtg.
X-ALT-DESC;FMTTYPE=text/html:DaVinci Academy Information Mtg.
LOCATION:Conference Room
UID:e.125.5472
SEQUENCE:3
DTSTAMP:20260419T122857Z
URL:https://members.tooelechamber.com/events/details/davinci-academy-information-mtg-08-27-2014-5472
END:VEVENT

END:VCALENDAR
