BEGIN:VCALENDAR
VERSION:2.0
PRODID:-//ChamberMaster//Event Calendar 2.0//EN
METHOD:PUBLISH
X-PUBLISHED-TTL:P3D
REFRESH-INTERVAL:P3D
CALSCALE:GREGORIAN
BEGIN:VEVENT
DTSTART:20080311T233000Z
DTEND:20080312T010000Z
X-MICROSOFT-CDO-ALLDAYEVENT:FALSE
SUMMARY:Deseret Chemical Depot Public Meeting
DESCRIPTION:Deseret Chemical Depot is hosting a public meeting to discuss environmental restoration activities associated with its Installation Restoration Program. the Restoration Advisory Board was established to bring together members of the local community \, the Army\, and the State and Federal Regulators to provide the public with an opportunity to talk with the experts about the work performed on the Depot. RAB meetings are held every four months.
X-ALT-DESC;FMTTYPE=text/html:<div>Deseret Chemical&nbsp\;Depot is hosting a public meeting to discuss&nbsp\;environmental restoration activities associated with its Installation Restoration Program. the Restoration Advisory Board was established to bring together members of the local community \, the Army\, and the State and Federal Regulators to provide the public with an opportunity to talk with the experts about the work performed on the Depot. RAB meetings are held every four months.&nbsp\;&nbsp\;&nbsp\;</div>
LOCATION:Deseret Chemical Depot Stockpile Outreach Office54 South Main StreetTooele\, Utah
UID:e.125.240
SEQUENCE:3
DTSTAMP:20260424T221226Z
URL:https://members.tooelechamber.com/events/details/deseret-chemical-depot-public-meeting-03-11-2008-240
END:VEVENT

END:VCALENDAR
