BEGIN:VCALENDAR
VERSION:2.0
PRODID:-//ChamberMaster//Event Calendar 2.0//EN
METHOD:PUBLISH
X-PUBLISHED-TTL:P3D
REFRESH-INTERVAL:P3D
CALSCALE:GREGORIAN
BEGIN:VEVENT
DTSTART:20070519T180000Z
DTEND:20070519T180000Z
X-MICROSOFT-CDO-ALLDAYEVENT:FALSE
SUMMARY:Deseret Peak Aquatic Center Ribbon Cutting & Re-Grand Opening
DESCRIPTION:Ribbon Cutting by the Tooele Chamber of Commerce. Re-Grand Opening of the Deseret Peak Aquatic Center. Starts at 12:00 noon at the Deseret Peak Complex.
X-ALT-DESC;FMTTYPE=text/html:Ribbon Cutting by the Tooele Chamber of Commerce. Re-Grand Opening of the Deseret Peak Aquatic Center. Starts at 12:00 noon at the Deseret Peak Complex.
LOCATION:Deseret Peak Complex
UID:e.125.102
SEQUENCE:3
DTSTAMP:20260425T130056Z
URL:https://members.tooelechamber.com/events/details/deseret-peak-aquatic-center-ribbon-cutting-re-grand-opening-05-19-2007-102
END:VEVENT

END:VCALENDAR
