BEGIN:VCALENDAR
VERSION:2.0
PRODID:-//ChamberMaster//Event Calendar 2.0//EN
METHOD:PUBLISH
X-PUBLISHED-TTL:P3D
REFRESH-INTERVAL:P3D
CALSCALE:GREGORIAN
BEGIN:VEVENT
DTSTART;VALUE=DATE:20100604
DTEND;VALUE=DATE:20100606
TRANSP:TRANSPARENT
X-MICROSOFT-CDO-ALLDAYEVENT:TRUE
SUMMARY:Deseret Peak Days & Stampede
DESCRIPTION:Deseret Peak Days & StampedePRCA Rodeowww.deseretpeakcomplex.com
X-ALT-DESC;FMTTYPE=text/html:<div><font face="Frutiger-LightCn" size="1"><font face="Frutiger-LightCn" size="1"><p align="center"><font size="4">Deseret Peak Days &amp\; Stampede</font></p><p align="center"><font size="4">PRCA Rodeo</font></p><p align="center"><font size="4">www.deseretpeakcomplex.com</font></p></font></font></div>
LOCATION:
UID:e.125.600
SEQUENCE:3
DTSTAMP:20260423T044809Z
URL:https://members.tooelechamber.com/events/details/deseret-peak-days-stampede-06-04-2010-600
END:VEVENT

END:VCALENDAR
