BEGIN:VCALENDAR
VERSION:2.0
PRODID:-//ChamberMaster//Event Calendar 2.0//EN
METHOD:PUBLISH
X-PUBLISHED-TTL:P3D
REFRESH-INTERVAL:P3D
CALSCALE:GREGORIAN
BEGIN:VEVENT
DTSTART;VALUE=DATE:20080621
DTEND;VALUE=DATE:20080622
TRANSP:TRANSPARENT
X-MICROSOFT-CDO-ALLDAYEVENT:TRUE
SUMMARY:Deseret Peak Demolition Derby
DESCRIPTION:Deseret Peak Demolition Derby
X-ALT-DESC;FMTTYPE=text/html:<div>Deseret Peak Demolition Derby</div>
LOCATION:Deseret Peak Complex2930 West Hwy 112\, Tooele
UID:e.125.406
SEQUENCE:3
DTSTAMP:20260424T165641Z
URL:https://members.tooelechamber.com/events/details/deseret-peak-demolition-derby-06-21-2008-406
END:VEVENT

END:VCALENDAR
