BEGIN:VCALENDAR
VERSION:2.0
PRODID:-//ChamberMaster//Event Calendar 2.0//EN
METHOD:PUBLISH
X-PUBLISHED-TTL:P3D
REFRESH-INTERVAL:P3D
CALSCALE:GREGORIAN
BEGIN:VEVENT
DTSTART;VALUE=DATE:20070601
DTEND;VALUE=DATE:20070603
TRANSP:TRANSPARENT
X-MICROSOFT-CDO-ALLDAYEVENT:TRUE
SUMMARY:Deseret Peak Stampede Days
DESCRIPTION:The eighth annual Deseret Peak PRCA Stampede is rich with family activities\, like Tooele Idol\,  a Craft Show\, entertainment\, fireworks\, pony rides\, inflatables and lots of fun.
X-ALT-DESC;FMTTYPE=text/html:The eighth annual Deseret Peak PRCA Stampede is rich with family activities\, like Tooele Idol\,&nbsp\; a Craft Show\, entertainment\, fireworks\, pony rides\, inflatables and lots of fun.
LOCATION:Deseret Peak Complex 2930 W. Highway 112 Tooele\, UT 84074
UID:e.125.101
SEQUENCE:3
DTSTAMP:20260425T114126Z
URL:https://members.tooelechamber.com/events/details/deseret-peak-stampede-days-06-01-2007-101
END:VEVENT

END:VCALENDAR
